Package: derfinderHelper
Version: 1.38.0
Maintainer: Leonardo Collado-Torres
MaintainerEmail: lcolladotor at gmail.com
git_url: https://git.bioconductor.org/packages/derfinderHelper
git_branch: RELEASE_3_19
git_last_commit: 2fe50f9
git_last_commit_date: 2024-04-30 10:39:19 -0400 (Tue, 30 Apr 2024)