Package: densvis
Version: 1.14.1
Maintainer: Alan O'Callaghan
MaintainerEmail: alan.ocallaghan at outlook.com
git_url: https://git.bioconductor.org/packages/densvis
git_branch: RELEASE_3_19
git_last_commit: a74b17e
git_last_commit_date: 2024-09-06 07:06:06 -0400 (Fri, 06 Sep 2024)