Package: deepSNV
Version: 1.50.0
Maintainer: Moritz Gerstung
MaintainerEmail: moritz.gerstung at ebi.ac.uk
git_url: https://git.bioconductor.org/packages/deepSNV
git_branch: RELEASE_3_19
git_last_commit: 2574af4
git_last_commit_date: 2024-04-30 10:26:54 -0400 (Tue, 30 Apr 2024)