Package: decompTumor2Sig
Version: 2.20.0
Maintainer: Rosario M. Piro
MaintainerEmail: rmpiro at gmail.com
git_url: https://git.bioconductor.org/packages/decompTumor2Sig
git_branch: RELEASE_3_19
git_last_commit: 7c2b408
git_last_commit_date: 2024-04-30 11:11:25 -0400 (Tue, 30 Apr 2024)