Package: debCAM
Version: 1.22.0
Maintainer: Lulu Chen
MaintainerEmail: luluchen at vt.edu
git_url: https://git.bioconductor.org/packages/debCAM
git_branch: RELEASE_3_19
git_last_commit: b78394e
git_last_commit_date: 2024-04-30 11:17:19 -0400 (Tue, 30 Apr 2024)