Package: dcanr
Version: 1.20.0
Maintainer: Dharmesh D. Bhuva
MaintainerEmail: bhuva.d at wehi.edu.au
git_url: https://git.bioconductor.org/packages/dcanr
git_branch: RELEASE_3_19
git_last_commit: 46cf53e
git_last_commit_date: 2024-04-30 11:14:23 -0400 (Tue, 30 Apr 2024)