Package: dcGSA
Version: 1.32.0
Maintainer: Jiehuan sun
MaintainerEmail: jiehuan.sun at yale.edu
git_url: https://git.bioconductor.org/packages/dcGSA
git_branch: RELEASE_3_19
git_last_commit: 7b92d90
git_last_commit_date: 2024-04-30 10:47:09 -0400 (Tue, 30 Apr 2024)