Package: dagLogo
Version: 1.42.0
Maintainer: Jianhong Ou
MaintainerEmail: jianhong.ou at duke.edu
git_url: https://git.bioconductor.org/packages/dagLogo
git_branch: RELEASE_3_19
git_last_commit: 9abaa82
git_last_commit_date: 2024-04-30 10:33:47 -0400 (Tue, 30 Apr 2024)