Package: customCMPdb
Version: 1.14.0
Command: rm -rf customCMPdb.buildbin-libdir && mkdir customCMPdb.buildbin-libdir && /Users/biocbuild/BBS/utils/build-universal.sh customCMPdb_1.14.0.tar.gz /Library/Frameworks/R.framework/Resources/bin/R customCMPdb.buildbin-libdir
StartedAt: 2024-10-17 15:57:25 -0400 (Thu, 17 Oct 2024)
EndedAt: 2024-10-17 15:58:07 -0400 (Thu, 17 Oct 2024)
EllapsedTime: 41.8 seconds
RetCode: 0
Status: OK
PackageFile: customCMPdb_1.14.0.tgz
PackageFileSize: 734.4 <A href="http://en.wikipedia.org/wiki/KiB" target="_blank">KiB</A>