Package: csaw
Version: 1.38.0
Maintainer: Aaron Lun
MaintainerEmail: infinite.monkeys.with.keyboards at gmail.com
git_url: https://git.bioconductor.org/packages/csaw
git_branch: RELEASE_3_19
git_last_commit: 8000717
git_last_commit_date: 2024-04-30 10:39:51 -0400 (Tue, 30 Apr 2024)