Package: crisprDesign
Version: 1.6.0
Command: chmod a+r crisprDesign -R && E:\biocbuild\bbs-3.19-bioc\R\bin\R.exe CMD build --keep-empty-dirs --no-resave-data crisprDesign
StartedAt: 2024-10-16 18:25:38 -0400 (Wed, 16 Oct 2024)
EndedAt: 2024-10-16 18:27:55 -0400 (Wed, 16 Oct 2024)
EllapsedTime: 137.6 seconds
RetCode: 0
Status: OK
PackageFile: crisprDesign_1.6.0.tar.gz
PackageFileSize: 2.562 <A href="http://en.wikipedia.org/wiki/MiB" target="_blank">MiB</A>