Package: crisprDesign
Version: 1.6.0
Command: /Library/Frameworks/R.framework/Resources/bin/R CMD check --install=check:crisprDesign.install-out.txt --library=/Library/Frameworks/R.framework/Resources/library --no-vignettes --timings crisprDesign_1.6.0.tar.gz
StartedAt: 2024-10-17 17:52:22 -0400 (Thu, 17 Oct 2024)
EndedAt: 2024-10-17 18:03:53 -0400 (Thu, 17 Oct 2024)
EllapsedTime: 691.3 seconds
RetCode: 0
Status: OK
CheckDir: crisprDesign.Rcheck
Warnings: 0