Package: crisprDesign
Version: 1.6.0
Command: /Library/Frameworks/R.framework/Resources/bin/R CMD build --keep-empty-dirs --no-resave-data crisprDesign
StartedAt: 2024-10-16 22:22:38 -0400 (Wed, 16 Oct 2024)
EndedAt: 2024-10-16 22:24:33 -0400 (Wed, 16 Oct 2024)
EllapsedTime: 115.2 seconds
RetCode: 0
Status: OK
PackageFile: crisprDesign_1.6.0.tar.gz
PackageFileSize: 2.562 <A href="http://en.wikipedia.org/wiki/MiB" target="_blank">MiB</A>