Package: crisprBowtie
Version: 1.8.0
Command: rm -rf crisprBowtie.buildbin-libdir && mkdir crisprBowtie.buildbin-libdir && E:\biocbuild\bbs-3.19-bioc\R\bin\R.exe CMD INSTALL --build --library=crisprBowtie.buildbin-libdir crisprBowtie_1.8.0.tar.gz
StartedAt: 2024-10-17 07:36:25 -0400 (Thu, 17 Oct 2024)
EndedAt: 2024-10-17 07:37:04 -0400 (Thu, 17 Oct 2024)
EllapsedTime: 39.0 seconds
RetCode: 0
Status: OK
PackageFile: crisprBowtie_1.8.0.zip
PackageFileSize: 342.1 <A href="http://en.wikipedia.org/wiki/KiB" target="_blank">KiB</A>