Package: cqn Version: 1.50.0 Command: /home/biocbuild/bbs-3.19-bioc/R/bin/R CMD INSTALL cqn StartedAt: 2024-10-16 16:28:30 -0400 (Wed, 16 Oct 2024) EndedAt: 2024-10-16 16:28:36 -0400 (Wed, 16 Oct 2024) EllapsedTime: 5.8 seconds RetCode: 0 Status: OK