Package: cqn
Version: 1.50.0
Command: /home/biocbuild/bbs-3.19-bioc/R/bin/R CMD check --install=check:cqn.install-out.txt --library=/home/biocbuild/bbs-3.19-bioc/R/site-library --timings cqn_1.50.0.tar.gz
StartedAt: 2024-10-16 23:10:41 -0400 (Wed, 16 Oct 2024)
EndedAt: 2024-10-16 23:11:25 -0400 (Wed, 16 Oct 2024)
EllapsedTime: 44.1 seconds
RetCode: 0
Status: OK
CheckDir: cqn.Rcheck
Warnings: 0