Package: cqn
Version: 1.50.0
Command: /Library/Frameworks/R.framework/Resources/bin/R CMD INSTALL cqn
StartedAt: 2024-06-09 16:51:04 -0400 (Sun, 09 Jun 2024)
EndedAt: 2024-06-09 16:51:14 -0400 (Sun, 09 Jun 2024)
EllapsedTime: 10.1 seconds
RetCode: 0
Status: OK