Package: cqn
Version: 1.50.0
Command: rm -rf cqn.buildbin-libdir && mkdir cqn.buildbin-libdir && /Users/biocbuild/BBS/utils/build-universal.sh cqn_1.50.0.tar.gz /Library/Frameworks/R.framework/Resources/bin/R cqn.buildbin-libdir
StartedAt: 2024-06-11 10:44:24 -0400 (Tue, 11 Jun 2024)
EndedAt: 2024-06-11 10:44:38 -0400 (Tue, 11 Jun 2024)
EllapsedTime: 13.3 seconds
RetCode: 0
Status: OK
PackageFile: cqn_1.50.0.tgz
PackageFileSize: 1.058 <A href="http://en.wikipedia.org/wiki/MiB" target="_blank">MiB</A>