Package: countsimQC
Version: 1.22.0
Maintainer: Charlotte Soneson
MaintainerEmail: charlottesoneson at gmail.com
git_url: https://git.bioconductor.org/packages/countsimQC
git_branch: RELEASE_3_19
git_last_commit: 87198d8
git_last_commit_date: 2024-04-30 11:09:38 -0400 (Tue, 30 Apr 2024)