Package: contiBAIT
Version: 1.32.0
Maintainer: Kieran O'Neill
MaintainerEmail: koneill at bccrc.ca
git_url: https://git.bioconductor.org/packages/contiBAIT
git_branch: RELEASE_3_19
git_last_commit: eb4782b
git_last_commit_date: 2024-04-30 10:48:15 -0400 (Tue, 30 Apr 2024)