Package: consensusOV
Version: 1.26.0
Maintainer: Benjamin Haibe-Kains
MaintainerEmail: benjamin.haibe.kains at utoronto.ca
git_url: https://git.bioconductor.org/packages/consensusOV
git_branch: RELEASE_3_19
git_last_commit: 4fbf30e
git_last_commit_date: 2024-04-30 10:59:05 -0400 (Tue, 30 Apr 2024)