Package: compSPOT
Version: 1.2.0
Maintainer: Sydney Grant
MaintainerEmail: Sydney.Grant at roswellpark.org
git_url: https://git.bioconductor.org/packages/compSPOT
git_branch: RELEASE_3_19
git_last_commit: 47c41dc
git_last_commit_date: 2024-04-30 11:51:01 -0400 (Tue, 30 Apr 2024)