Package: cogena
Version: 1.38.0
Maintainer: Zhilong Jia
MaintainerEmail: zhilongjia at gmail.com
git_url: https://git.bioconductor.org/packages/cogena
git_branch: RELEASE_3_19
git_last_commit: 9159da6
git_last_commit_date: 2024-04-30 10:43:04 -0400 (Tue, 30 Apr 2024)