Package: cnvGSA
Version: 1.48.0
Maintainer: Joseph Lugo
MaintainerEmail: joseph.r.lugo at gmail.com
git_url: https://git.bioconductor.org/packages/cnvGSA
git_branch: RELEASE_3_19
git_last_commit: 0501b34
git_last_commit_date: 2024-04-30 10:27:27 -0400 (Tue, 30 Apr 2024)