Package: clevRvis
Version: 1.4.0
Maintainer: Sarah Sandmann
MaintainerEmail: sarah.sandmann at uni-muenster.de
git_url: https://git.bioconductor.org/packages/clevRvis
git_branch: RELEASE_3_19
git_last_commit: ad5fe16
git_last_commit_date: 2024-04-30 11:46:34 -0400 (Tue, 30 Apr 2024)