Package: cisPath
Version: 1.44.0
Maintainer: Likun Wang
MaintainerEmail: wanglk at hsc.pku.edu.cn
git_url: https://git.bioconductor.org/packages/cisPath
git_branch: RELEASE_3_19
git_last_commit: abd18ed
git_last_commit_date: 2024-04-30 10:30:36 -0400 (Tue, 30 Apr 2024)