Package: chromVAR
Version: 1.26.0
Maintainer: Alicia Schep
MaintainerEmail: aschep at gmail.com
git_url: https://git.bioconductor.org/packages/chromVAR
git_branch: RELEASE_3_19
git_last_commit: 8150876
git_last_commit_date: 2024-04-30 11:01:15 -0400 (Tue, 30 Apr 2024)