Package: chipenrich
Version: 2.28.0
Maintainer: Kai Wang
MaintainerEmail: wangdaha at umich.edu
git_url: https://git.bioconductor.org/packages/chipenrich
git_branch: RELEASE_3_19
git_last_commit: 6495340
git_last_commit_date: 2024-04-30 10:33:18 -0400 (Tue, 30 Apr 2024)