Package: cellity
Version: 1.32.0
Maintainer: Tomislav Ilicic
MaintainerEmail: ti243 at cam.ac.uk
git_url: https://git.bioconductor.org/packages/cellity
git_branch: RELEASE_3_19
git_last_commit: cc1ebc6
git_last_commit_date: 2024-04-30 10:48:31 -0400 (Tue, 30 Apr 2024)