Package: ceRNAnetsim
Version: 1.16.0
Command: /home/biocbuild/bbs-3.19-bioc/R/bin/R CMD INSTALL ceRNAnetsim
StartedAt: 2024-10-16 16:24:44 -0400 (Wed, 16 Oct 2024)
EndedAt: 2024-10-16 16:24:50 -0400 (Wed, 16 Oct 2024)
EllapsedTime: 6.2 seconds
RetCode: 0
Status: OK