Package: ceRNAnetsim
Version: 1.16.0
Command: /home/biocbuild/bbs-3.19-bioc/R/bin/R CMD check --install=check:ceRNAnetsim.install-out.txt --library=/home/biocbuild/bbs-3.19-bioc/R/site-library --timings ceRNAnetsim_1.16.0.tar.gz
StartedAt: 2024-10-16 22:37:04 -0400 (Wed, 16 Oct 2024)
EndedAt: 2024-10-16 22:43:28 -0400 (Wed, 16 Oct 2024)
EllapsedTime: 383.9 seconds
RetCode: 0
Status: OK
CheckDir: ceRNAnetsim.Rcheck
Warnings: 0