Package: ceRNAnetsim
Version: 1.16.0
Command: /home/biocbuild/bbs-3.19-bioc/R/bin/R CMD build --keep-empty-dirs --no-resave-data ceRNAnetsim
StartedAt: 2024-10-16 17:37:34 -0400 (Wed, 16 Oct 2024)
EndedAt: 2024-10-16 17:41:47 -0400 (Wed, 16 Oct 2024)
EllapsedTime: 252.4 seconds
RetCode: 0
Status: OK
PackageFile: ceRNAnetsim_1.16.0.tar.gz
PackageFileSize: 2.936 <A href="http://en.wikipedia.org/wiki/MiB" target="_blank">MiB</A>