##############################################################################
##############################################################################
###
### Running command:
###
###   /home/biocbuild/bbs-3.19-bioc/R/bin/R CMD build --keep-empty-dirs --no-resave-data ceRNAnetsim
###
##############################################################################
##############################################################################


* checking for file ‘ceRNAnetsim/DESCRIPTION’ ... OK
* preparing ‘ceRNAnetsim’:
* checking DESCRIPTION meta-information ... OK
* installing the package to build vignettes
* creating vignettes ... OK
* checking for LF line-endings in source and make files and shell scripts
* checking for empty or unneeded directories
WARNING: directory ‘ceRNAnetsim/ceRNAnetsim_dev_clone’ is empty
WARNING: directory ‘ceRNAnetsim/ceRNAnetsim_user_clone’ is empty
* looking to see if a ‘data/datalist’ file should be added
* building ‘ceRNAnetsim_1.16.0.tar.gz’