Package: ccfindR
Version: 1.24.0
Maintainer: Jun Woo
MaintainerEmail: jwoo at umn.edu
git_url: https://git.bioconductor.org/packages/ccfindR
git_branch: RELEASE_3_19
git_last_commit: d148722
git_last_commit_date: 2024-04-30 11:06:15 -0400 (Tue, 30 Apr 2024)