Package: cbpManager
Version: 1.12.0
Maintainer: Arsenij Ustjanzew
MaintainerEmail: arsenij.ustjanzew at gmail.com
git_url: https://git.bioconductor.org/packages/cbpManager
git_branch: RELEASE_3_19
git_last_commit: 0eee05c
git_last_commit_date: 2024-04-30 11:34:16 -0400 (Tue, 30 Apr 2024)