Package: cbaf
Version: 1.26.3
Maintainer: Arman Shahrisa
MaintainerEmail: shahrisa.arman at hotmail.com
git_url: https://git.bioconductor.org/packages/cbaf
git_branch: RELEASE_3_19
git_last_commit: 94ed09b
git_last_commit_date: 2024-06-03 13:28:47 -0400 (Mon, 03 Jun 2024)