Package: cardelino
Version: 1.6.0
Maintainer: Davis McCarthy
MaintainerEmail: dmccarthy at svi.edu.au
git_url: https://git.bioconductor.org/packages/cardelino
git_branch: RELEASE_3_19
git_last_commit: cd86d56
git_last_commit_date: 2024-04-30 11:45:30 -0400 (Tue, 30 Apr 2024)