Package: brainflowprobes
Version: 1.18.0
Maintainer: Amanda Price
MaintainerEmail: amanda.joy.price at gmail.com
git_url: https://git.bioconductor.org/packages/brainflowprobes
git_branch: RELEASE_3_19
git_last_commit: 0a266f4
git_last_commit_date: 2024-04-30 11:19:04 -0400 (Tue, 30 Apr 2024)