Package: blima
Version: 1.38.0
Command: E:\biocbuild\bbs-3.19-bioc\R\bin\R.exe CMD INSTALL blima
StartedAt: 2024-10-16 16:27:35 -0400 (Wed, 16 Oct 2024)
EndedAt: 2024-10-16 16:28:17 -0400 (Wed, 16 Oct 2024)
EllapsedTime: 41.6 seconds
RetCode: 0
Status: OK