Package: blima
Version: 1.38.0
Command: chmod a+r blima -R && E:\biocbuild\bbs-3.19-bioc\R\bin\R.exe CMD build --keep-empty-dirs --no-resave-data blima
StartedAt: 2024-10-16 17:56:07 -0400 (Wed, 16 Oct 2024)
EndedAt: 2024-10-16 18:02:58 -0400 (Wed, 16 Oct 2024)
EllapsedTime: 411.7 seconds
RetCode: 0
Status: OK
PackageFile: blima_1.38.0.tar.gz
PackageFileSize: 265.9 <A href="http://en.wikipedia.org/wiki/KiB" target="_blank">KiB</A>