Package: blima
Version: 1.38.0
Command: rm -rf blima.buildbin-libdir && mkdir blima.buildbin-libdir && E:\biocbuild\bbs-3.19-bioc\R\bin\R.exe CMD INSTALL --build --library=blima.buildbin-libdir blima_1.38.0.tar.gz
StartedAt: 2024-10-17 07:26:48 -0400 (Thu, 17 Oct 2024)
EndedAt: 2024-10-17 07:27:25 -0400 (Thu, 17 Oct 2024)
EllapsedTime: 37.4 seconds
RetCode: 0
Status: OK
PackageFile: blima_1.38.0.zip
PackageFileSize: 736.4 <A href="http://en.wikipedia.org/wiki/KiB" target="_blank">KiB</A>