Package: blacksheepr Version: 1.18.0 Maintainer: RugglesLab MaintainerEmail: ruggleslab at gmail.com git_url: https://git.bioconductor.org/packages/blacksheepr git_branch: RELEASE_3_19 git_last_commit: e3e3f6b git_last_commit_date: 2024-04-30 11:18:13 -0400 (Tue, 30 Apr 2024)