Package: biomaRt
Version: 2.60.1
Maintainer: Mike Smith
MaintainerEmail: grimbough at gmail.com
git_url: https://git.bioconductor.org/packages/biomaRt
git_branch: RELEASE_3_19
git_last_commit: af13538
git_last_commit_date: 2024-06-24 05:07:55 -0400 (Mon, 24 Jun 2024)