Package: biodbKegg
Version: 1.10.2
Maintainer: Pierrick Roger
MaintainerEmail: pierrick.roger at cea.fr
git_url: https://git.bioconductor.org/packages/biodbKegg
git_branch: RELEASE_3_19
git_last_commit: 9ac3857
git_last_commit_date: 2024-08-03 12:31:56 -0400 (Sat, 03 Aug 2024)