Package: biodbChebi
Version: 1.10.0
Command: /Library/Frameworks/R.framework/Resources/bin/R CMD INSTALL biodbChebi
StartedAt: 2024-10-16 17:44:42 -0400 (Wed, 16 Oct 2024)
EndedAt: 2024-10-16 17:44:51 -0400 (Wed, 16 Oct 2024)
EllapsedTime: 9.1 seconds
RetCode: 0
Status: OK