Package: biodbChebi
Version: 1.10.0
Command: /Library/Frameworks/R.framework/Resources/bin/R CMD build --keep-empty-dirs --no-resave-data biodbChebi
StartedAt: 2024-10-16 20:24:06 -0400 (Wed, 16 Oct 2024)
EndedAt: 2024-10-16 20:25:26 -0400 (Wed, 16 Oct 2024)
EllapsedTime: 80.9 seconds
RetCode: 0
Status: OK
PackageFile: biodbChebi_1.10.0.tar.gz
PackageFileSize: 312.2 <A href="http://en.wikipedia.org/wiki/KiB" target="_blank">KiB</A>