Package: biocthis
Version: 1.14.0
Command: /Library/Frameworks/R.framework/Resources/bin/R CMD INSTALL biocthis
StartedAt: 2024-10-16 15:50:23 -0400 (Wed, 16 Oct 2024)
EndedAt: 2024-10-16 15:50:34 -0400 (Wed, 16 Oct 2024)
EllapsedTime: 10.4 seconds
RetCode: 0
Status: OK