Package: biocthis
Version: 1.14.0
Command: /Library/Frameworks/R.framework/Resources/bin/R CMD check --install=check:biocthis.install-out.txt --library=/Library/Frameworks/R.framework/Resources/library --no-vignettes --timings biocthis_1.14.0.tar.gz
StartedAt: 2024-06-09 19:00:30 -0400 (Sun, 09 Jun 2024)
EndedAt: 2024-06-09 19:01:11 -0400 (Sun, 09 Jun 2024)
EllapsedTime: 41.0 seconds
RetCode: 0
Status: OK
CheckDir: biocthis.Rcheck
Warnings: 0