Package: biocthis
Version: 1.14.0
Command: rm -rf biocthis.buildbin-libdir && mkdir biocthis.buildbin-libdir && /Users/biocbuild/BBS/utils/build-universal.sh biocthis_1.14.0.tar.gz /Library/Frameworks/R.framework/Resources/bin/R biocthis.buildbin-libdir
StartedAt: 2024-10-18 17:30:50 -0400 (Fri, 18 Oct 2024)
EndedAt: 2024-10-18 17:30:56 -0400 (Fri, 18 Oct 2024)
EllapsedTime: 6.7 seconds
RetCode: 0
Status: OK
PackageFile: biocthis_1.14.0.tgz
PackageFileSize: 699.7 <A href="http://en.wikipedia.org/wiki/KiB" target="_blank">KiB</A>