Package: biocViews
Version: 1.72.0
Command: rm -rf biocViews.buildbin-libdir && mkdir biocViews.buildbin-libdir && E:\biocbuild\bbs-3.19-bioc\R\bin\R.exe CMD INSTALL --build --library=biocViews.buildbin-libdir biocViews_1.72.0.tar.gz
StartedAt: 2024-10-17 07:25:08 -0400 (Thu, 17 Oct 2024)
EndedAt: 2024-10-17 07:25:55 -0400 (Thu, 17 Oct 2024)
EllapsedTime: 46.7 seconds
RetCode: 0
Status: OK
PackageFile: biocViews_1.72.0.zip
PackageFileSize: 897 <A href="http://en.wikipedia.org/wiki/KiB" target="_blank">KiB</A>